BEGIN:VCALENDAR
VERSION:2.0
PRODID:-//Ada Lovelace Day - ECPv6.15.18//NONSGML v1.0//EN
CALSCALE:GREGORIAN
METHOD:PUBLISH
X-WR-CALNAME:Ada Lovelace Day
X-ORIGINAL-URL:https://findingada.com
X-WR-CALDESC:Events for Ada Lovelace Day
REFRESH-INTERVAL;VALUE=DURATION:PT1H
X-Robots-Tag:noindex
X-PUBLISHED-TTL:PT1H
BEGIN:VTIMEZONE
TZID:Europe/London
BEGIN:DAYLIGHT
TZOFFSETFROM:+0000
TZOFFSETTO:+0100
TZNAME:BST
DTSTART:20170326T010000
END:DAYLIGHT
BEGIN:STANDARD
TZOFFSETFROM:+0100
TZOFFSETTO:+0000
TZNAME:GMT
DTSTART:20171029T010000
END:STANDARD
BEGIN:DAYLIGHT
TZOFFSETFROM:+0000
TZOFFSETTO:+0100
TZNAME:BST
DTSTART:20180325T010000
END:DAYLIGHT
BEGIN:STANDARD
TZOFFSETFROM:+0100
TZOFFSETTO:+0000
TZNAME:GMT
DTSTART:20181028T010000
END:STANDARD
BEGIN:DAYLIGHT
TZOFFSETFROM:+0000
TZOFFSETTO:+0100
TZNAME:BST
DTSTART:20190331T010000
END:DAYLIGHT
BEGIN:STANDARD
TZOFFSETFROM:+0100
TZOFFSETTO:+0000
TZNAME:GMT
DTSTART:20191027T010000
END:STANDARD
END:VTIMEZONE
BEGIN:VEVENT
DTSTART;TZID=Europe/London:20181009T120000
DTEND;TZID=Europe/London:20181009T143000
DTSTAMP:20260423T103631
CREATED:20181005T143008Z
LAST-MODIFIED:20181005T143008Z
UID:10001521-1539086400-1539095400@findingada.com
SUMMARY:FEPS Ada Lovelace Day Symposium
DESCRIPTION:How much do you know about the subjects in the new faculty? \nJoin us at the FEPS Ada Lovelace Day Symposium to listen to the stories of the women that shaped the subjects in the new faculty. All the talks will be at a general interest level so no need to worry if you’re not familiar with a topic. There’ll be a chance to meet colleagues and share your own stories over lunch as well. \n12:00 Lunch \n12:30 Claire Murray\, Diamond Light Source \n13:00 Age Chapman\, ECS \n13:30 Charlotte Angus\, Physics \n14:00 Close \nThis independently organised Ada Lovelace Day event is a part of a global celebration of women in STEM. To find out about other events around the world\, and more about Ada Lovelace Day itself\, please visit findingada.com or follow @findingada on Twitter.
URL:https://findingada.com/event/feps-ada-lovelace-day-symposium/
LOCATION:University of Southampton Highfield Campus\, Mountbatten Seminar Room\, University Road\, Southampton\, SO17 1BJ\, United Kingdom
CATEGORIES:Events 2018
ORGANIZER;CN="FEPS Southampton":MAILTO:s.j.coles@soton.ac.uk
GEO:50.937611;-1.3983076
X-APPLE-STRUCTURED-LOCATION;VALUE=URI;X-ADDRESS=University of Southampton Highfield Campus Mountbatten Seminar Room University Road Southampton SO17 1BJ United Kingdom;X-APPLE-RADIUS=500;X-TITLE=Mountbatten Seminar Room\, University Road:geo:-1.3983076,50.937611
END:VEVENT
END:VCALENDAR