BEGIN:VCALENDAR
VERSION:2.0
PRODID:-//Ada Lovelace Day - ECPv6.15.18//NONSGML v1.0//EN
CALSCALE:GREGORIAN
METHOD:PUBLISH
X-WR-CALNAME:Ada Lovelace Day
X-ORIGINAL-URL:https://findingada.com
X-WR-CALDESC:Events for Ada Lovelace Day
REFRESH-INTERVAL;VALUE=DURATION:PT1H
X-Robots-Tag:noindex
X-PUBLISHED-TTL:PT1H
BEGIN:VTIMEZONE
TZID:Europe/London
BEGIN:DAYLIGHT
TZOFFSETFROM:+0000
TZOFFSETTO:+0100
TZNAME:BST
DTSTART:20150329T010000
END:DAYLIGHT
BEGIN:STANDARD
TZOFFSETFROM:+0100
TZOFFSETTO:+0000
TZNAME:GMT
DTSTART:20151025T010000
END:STANDARD
BEGIN:DAYLIGHT
TZOFFSETFROM:+0000
TZOFFSETTO:+0100
TZNAME:BST
DTSTART:20160327T010000
END:DAYLIGHT
BEGIN:STANDARD
TZOFFSETFROM:+0100
TZOFFSETTO:+0000
TZNAME:GMT
DTSTART:20161030T010000
END:STANDARD
BEGIN:DAYLIGHT
TZOFFSETFROM:+0000
TZOFFSETTO:+0100
TZNAME:BST
DTSTART:20170326T010000
END:DAYLIGHT
BEGIN:STANDARD
TZOFFSETFROM:+0100
TZOFFSETTO:+0000
TZNAME:GMT
DTSTART:20171029T010000
END:STANDARD
BEGIN:DAYLIGHT
TZOFFSETFROM:+0000
TZOFFSETTO:+0100
TZNAME:BST
DTSTART:20180325T010000
END:DAYLIGHT
BEGIN:STANDARD
TZOFFSETFROM:+0100
TZOFFSETTO:+0000
TZNAME:GMT
DTSTART:20181028T010000
END:STANDARD
END:VTIMEZONE
BEGIN:VEVENT
DTSTART;TZID=Europe/London:20171010T120000
DTEND;TZID=Europe/London:20171010T130000
DTSTAMP:20260420T192408
CREATED:20171005T141339Z
LAST-MODIFIED:20171005T150328Z
UID:10001087-1507636800-1507640400@findingada.com
SUMMARY:The Byronic Woman
DESCRIPTION:Celebrating Ada Lovelace: The Byronic Woman \n“Ada Lovelace did more than write the first computer program. She was the first to realise that a general purpose computer could do anything\, given the right data and instructions.” \nHelp us tell Ada’s story by creating an interactive Ada chatbot.
URL:https://findingada.com/event/the-byronic-woman/
LOCATION:Student Union building 1\, lower engagement space\, University of the West of England\, Frenchay Campus\, Bristol\, Bristol\, BS16 1QY\, United Kingdom
CATEGORIES:Events 2017
ATTACH;FMTTYPE=image/jpeg:https://findingada.com/wp-content/uploads/2017/10/ada-laptop.jpg
ORGANIZER;CN="Steve Battle":MAILTO:steve.battle@uwe.ac.uk
GEO:51.5002066;-2.5474905
X-APPLE-STRUCTURED-LOCATION;VALUE=URI;X-ADDRESS=Student Union building 1 lower engagement space University of the West of England Frenchay Campus Bristol Bristol BS16 1QY United Kingdom;X-APPLE-RADIUS=500;X-TITLE=University of the West of England\, Frenchay Campus:geo:-2.5474905,51.5002066
END:VEVENT
BEGIN:VEVENT
DTSTART;TZID=Europe/London:20161011T123000
DTEND;TZID=Europe/London:20161011T133000
DTSTAMP:20260420T192408
CREATED:20161007T121516Z
LAST-MODIFIED:20161010T131222Z
UID:10001273-1476189000-1476192600@findingada.com
SUMMARY:Ada Lovelace Day: The Byronic Woman
DESCRIPTION:Ada Lovelace Day (ALD) is an international celebration day of the achievements of women in science\, technology\, engineering and maths (STEM). It aims to increase the profile of women in STEM and\, in doing so create new role models to encourage more women into STEM careers. It is now held every year on the second Tuesday of October; this year this will be Tuesday 11th October. The event at UWE Bristol will be held between 12.30pm and 1.30pm in the foyer of the Student Union (SU building 1\, lower engagement space). The focus of this event is to tell Ada’s story through the creation of an interactive web-based story\, with a £50 prize draw for participants. \n#ALD16
URL:https://findingada.com/event/ada-lovelace-day-the-byronic-woman/
LOCATION:Student Union building 1\, lower engagement space\, University of the West of England\, Frenchay Campus\, Bristol\, Bristol\, BS16 1QY\, United Kingdom
CATEGORIES:Events 2016
ATTACH;FMTTYPE=image/png:https://findingada.com/wp-content/uploads/2016/10/ALDA4poster2016.png
ORGANIZER;CN="Steve Battle":MAILTO:steve.battle@uwe.ac.uk
GEO:51.5002066;-2.5474905
X-APPLE-STRUCTURED-LOCATION;VALUE=URI;X-ADDRESS=Student Union building 1 lower engagement space University of the West of England Frenchay Campus Bristol Bristol BS16 1QY United Kingdom;X-APPLE-RADIUS=500;X-TITLE=University of the West of England\, Frenchay Campus:geo:-2.5474905,51.5002066
END:VEVENT
END:VCALENDAR