BEGIN:VCALENDAR
VERSION:2.0
PRODID:-//Ada Lovelace Day - ECPv6.15.18//NONSGML v1.0//EN
CALSCALE:GREGORIAN
METHOD:PUBLISH
X-WR-CALNAME:Ada Lovelace Day
X-ORIGINAL-URL:https://findingada.com
X-WR-CALDESC:Events for Ada Lovelace Day
REFRESH-INTERVAL;VALUE=DURATION:PT1H
X-Robots-Tag:noindex
X-PUBLISHED-TTL:PT1H
BEGIN:VTIMEZONE
TZID:Europe/Stockholm
BEGIN:DAYLIGHT
TZOFFSETFROM:+0100
TZOFFSETTO:+0200
TZNAME:CEST
DTSTART:20150329T010000
END:DAYLIGHT
BEGIN:STANDARD
TZOFFSETFROM:+0200
TZOFFSETTO:+0100
TZNAME:CET
DTSTART:20151025T010000
END:STANDARD
BEGIN:DAYLIGHT
TZOFFSETFROM:+0100
TZOFFSETTO:+0200
TZNAME:CEST
DTSTART:20160327T010000
END:DAYLIGHT
BEGIN:STANDARD
TZOFFSETFROM:+0200
TZOFFSETTO:+0100
TZNAME:CET
DTSTART:20161030T010000
END:STANDARD
BEGIN:DAYLIGHT
TZOFFSETFROM:+0100
TZOFFSETTO:+0200
TZNAME:CEST
DTSTART:20170326T010000
END:DAYLIGHT
BEGIN:STANDARD
TZOFFSETFROM:+0200
TZOFFSETTO:+0100
TZNAME:CET
DTSTART:20171029T010000
END:STANDARD
END:VTIMEZONE
BEGIN:VEVENT
DTSTART;TZID=Europe/Stockholm:20161011T160000
DTEND;TZID=Europe/Stockholm:20161011T210000
DTSTAMP:20260424T112808
CREATED:20160912T144303Z
LAST-MODIFIED:20160912T144303Z
UID:10001207-1476201600-1476219600@findingada.com
SUMMARY:Ada Lovelace Day Umeå
DESCRIPTION:Ada Lovelace Day Umeå will be celebrated with workshops in e-textiles\, bringing in expert tinkerers and makers to help and inspire participants. Organisers: Sliperiet at Umeå University\, FabLab Umeå \nFree to participate but limited places\, please check facebook.com/adaumea for updates and registration links
URL:https://findingada.com/event/ada-lovelace-day-umea/
LOCATION:Sliperiet\, Östra Strandgatan 32\, Umeå\, 903 33\, Sweden
CATEGORIES:Events 2016
ATTACH;FMTTYPE=image/png:https://findingada.com/wp-content/uploads/2016/09/fbprofilada.png
ORGANIZER;CN="Sliperiet at Ume%C3%A5 University":MAILTO:linnea.dimitriou@umu.se
GEO:63.8206488;20.2773547
X-APPLE-STRUCTURED-LOCATION;VALUE=URI;X-ADDRESS=Sliperiet Östra Strandgatan 32 Umeå 903 33 Sweden;X-APPLE-RADIUS=500;X-TITLE=Östra Strandgatan 32:geo:20.2773547,63.8206488
END:VEVENT
END:VCALENDAR