BEGIN:VCALENDAR
VERSION:2.0
PRODID:-//Ada Lovelace Day - ECPv6.15.18//NONSGML v1.0//EN
CALSCALE:GREGORIAN
METHOD:PUBLISH
X-WR-CALNAME:Ada Lovelace Day
X-ORIGINAL-URL:https://findingada.com
X-WR-CALDESC:Events for Ada Lovelace Day
REFRESH-INTERVAL;VALUE=DURATION:PT1H
X-Robots-Tag:noindex
X-PUBLISHED-TTL:PT1H
BEGIN:VTIMEZONE
TZID:Europe/London
BEGIN:DAYLIGHT
TZOFFSETFROM:+0000
TZOFFSETTO:+0100
TZNAME:BST
DTSTART:20170326T010000
END:DAYLIGHT
BEGIN:STANDARD
TZOFFSETFROM:+0100
TZOFFSETTO:+0000
TZNAME:GMT
DTSTART:20171029T010000
END:STANDARD
BEGIN:DAYLIGHT
TZOFFSETFROM:+0000
TZOFFSETTO:+0100
TZNAME:BST
DTSTART:20180325T010000
END:DAYLIGHT
BEGIN:STANDARD
TZOFFSETFROM:+0100
TZOFFSETTO:+0000
TZNAME:GMT
DTSTART:20181028T010000
END:STANDARD
BEGIN:DAYLIGHT
TZOFFSETFROM:+0000
TZOFFSETTO:+0100
TZNAME:BST
DTSTART:20190331T010000
END:DAYLIGHT
BEGIN:STANDARD
TZOFFSETFROM:+0100
TZOFFSETTO:+0000
TZNAME:GMT
DTSTART:20191027T010000
END:STANDARD
END:VTIMEZONE
BEGIN:VEVENT
DTSTART;TZID=Europe/London:20181008T080000
DTEND;TZID=Europe/London:20181008T100000
DTSTAMP:20260423T105206
CREATED:20181004T144033Z
LAST-MODIFIED:20181004T144033Z
UID:10001164-1538985600-1538992800@findingada.com
SUMMARY:Ada Lovelace Quiz @ Paddle
DESCRIPTION:The wonderful ladies at Paddle are organising a breakfast quiz that will test our knowledge in tech history.
URL:https://findingada.com/event/ada-lovelace-quiz-paddle/
LOCATION:Paddle London\, 15 Bermondsey Square\, London\, SE1 3UN\, United Kingdom
CATEGORIES:Events 2018
ORGANIZER;CN="Paddle":MAILTO:bianca@paddle.com
GEO:51.4975184;-0.080424
X-APPLE-STRUCTURED-LOCATION;VALUE=URI;X-ADDRESS=Paddle London 15 Bermondsey Square London SE1 3UN United Kingdom;X-APPLE-RADIUS=500;X-TITLE=15 Bermondsey Square:geo:-0.080424,51.4975184
END:VEVENT
END:VCALENDAR