BEGIN:VCALENDAR
VERSION:2.0
PRODID:-//Ada Lovelace Day - ECPv6.15.18//NONSGML v1.0//EN
CALSCALE:GREGORIAN
METHOD:PUBLISH
X-WR-CALNAME:Ada Lovelace Day
X-ORIGINAL-URL:https://findingada.com
X-WR-CALDESC:Events for Ada Lovelace Day
REFRESH-INTERVAL;VALUE=DURATION:PT1H
X-Robots-Tag:noindex
X-PUBLISHED-TTL:PT1H
BEGIN:VTIMEZONE
TZID:America/Costa_Rica
BEGIN:STANDARD
TZOFFSETFROM:-0600
TZOFFSETTO:-0600
TZNAME:CST
DTSTART:20220101T000000
END:STANDARD
END:VTIMEZONE
BEGIN:VTIMEZONE
TZID:Europe/London
BEGIN:DAYLIGHT
TZOFFSETFROM:+0000
TZOFFSETTO:+0100
TZNAME:BST
DTSTART:20200329T010000
END:DAYLIGHT
BEGIN:STANDARD
TZOFFSETFROM:+0100
TZOFFSETTO:+0000
TZNAME:GMT
DTSTART:20201025T010000
END:STANDARD
BEGIN:DAYLIGHT
TZOFFSETFROM:+0000
TZOFFSETTO:+0100
TZNAME:BST
DTSTART:20210328T010000
END:DAYLIGHT
BEGIN:STANDARD
TZOFFSETFROM:+0100
TZOFFSETTO:+0000
TZNAME:GMT
DTSTART:20211031T010000
END:STANDARD
BEGIN:DAYLIGHT
TZOFFSETFROM:+0000
TZOFFSETTO:+0100
TZNAME:BST
DTSTART:20220327T010000
END:DAYLIGHT
BEGIN:STANDARD
TZOFFSETFROM:+0100
TZOFFSETTO:+0000
TZNAME:GMT
DTSTART:20221030T010000
END:STANDARD
END:VTIMEZONE
BEGIN:VTIMEZONE
TZID:America/New_York
BEGIN:DAYLIGHT
TZOFFSETFROM:-0500
TZOFFSETTO:-0400
TZNAME:EDT
DTSTART:20200308T070000
END:DAYLIGHT
BEGIN:STANDARD
TZOFFSETFROM:-0400
TZOFFSETTO:-0500
TZNAME:EST
DTSTART:20201101T060000
END:STANDARD
BEGIN:DAYLIGHT
TZOFFSETFROM:-0500
TZOFFSETTO:-0400
TZNAME:EDT
DTSTART:20210314T070000
END:DAYLIGHT
BEGIN:STANDARD
TZOFFSETFROM:-0400
TZOFFSETTO:-0500
TZNAME:EST
DTSTART:20211107T060000
END:STANDARD
BEGIN:DAYLIGHT
TZOFFSETFROM:-0500
TZOFFSETTO:-0400
TZNAME:EDT
DTSTART:20220313T070000
END:DAYLIGHT
BEGIN:STANDARD
TZOFFSETFROM:-0400
TZOFFSETTO:-0500
TZNAME:EST
DTSTART:20221106T060000
END:STANDARD
END:VTIMEZONE
BEGIN:VEVENT
DTSTART;TZID=America/Costa_Rica:20241022T160000
DTEND;TZID=America/Costa_Rica:20241022T170000
DTSTAMP:20260425T144433
CREATED:20241024T152423Z
LAST-MODIFIED:20241024T152423Z
UID:10001899-1729612800-1729616400@findingada.com
SUMMARY:Día de Ada Lovelace Costa Rica 2024
DESCRIPTION:La Red UNA STEM y la ACS Student Chapter UNA (@una_studentchapter) tienen el gusto de invitarles a la charla “Más Allá del Aula: Women in Engineering y Oportunidades Globales”\, como parte de la celebración del Día de Ada Lovelace Costa Rica 2024. \nConoce qué es Women in Engineering\, cómo ser parte y las oportunidades que un capítulo de WiE puede brindar\, preparando a las estudiantes para contribuir activamente en la comunidad global de ingeniería\, e impulsando el empoderamiento femenino en carreras de ingeniería\, construyendo redes de apoyo y liderazgo. \nEsta charla estará a cargo de Karen Dayana Tovar Parra\, vicepresidenta de la IEEE Women in Engineering Costa Rica Section (@wie_cr). \nFecha: martes 22 de octubre\nHora: 4:00 pm (GMT -6)\nZoom: http://bit.ly/3Nva6XO (o en nuestra bio) \nTrasmisión simultánea por el canal de Youtube de la Red UNA STEM. \n#ALD24 #DíaAdaLovelace #WiE #WiECR #ACSStudentChapterUNA #RedUNASTEM #CostaRica
URL:https://findingada.com/event/dia-de-ada-lovelace-costa-rica-2024/
LOCATION:Online Zoom\, Quesada\, Costa Rica
CATEGORIES:Events 2024
ATTACH;FMTTYPE=image/png:https://findingada.com/wp-content/uploads/2024/10/RED-UNA-STEM-CHARLAS-DALCR-2024-WiE.png
ORGANIZER;CN="Red UNA STEM":MAILTO:redunastem@una.ac.cr
GEO:10.319189;-84.4324697
END:VEVENT
BEGIN:VEVENT
DTSTART;TZID=America/Costa_Rica:20241008T140000
DTEND;TZID=America/Costa_Rica:20241008T150000
DTSTAMP:20260425T144433
CREATED:20241005T093608Z
LAST-MODIFIED:20241005T093608Z
UID:10001895-1728396000-1728399600@findingada.com
SUMMARY:Día de Ada Lovelace Costa Rica
DESCRIPTION:Día de Ada Lovelace Costa Rica 2024. \nWoman in Nuclear\, capítulo Costa Rica. (https://www.instagram.com/wnuclear_cr) \nWiN es una organización sin ánimo de lucro de mujeres que trabajan profesionalmente en diversos ámbitos de la energía nuclear y las aplicaciones de las radiaciones. \nMartes 8 de octubre / 2:00 pm – Zoom y Youtube \nDesde la UNA celebramos por 6to año consecutivo el Día de Ada Lovelace\, un día para celebrar los aportes de las mujeres en las STEM. \n¡No se pierdan esta charla!
URL:https://findingada.com/event/dia-de-ada-lovelace-costa-rica/
LOCATION:Online Zoom\, Quesada\, Costa Rica
CATEGORIES:Events 2024
ATTACH;FMTTYPE=image/png:https://findingada.com/wp-content/uploads/2024/10/RedUNASTEM-DALCR2024-Charla-WiN.png
ORGANIZER;CN="Red UNA STEM":MAILTO:redunastem@una.ac.cr
GEO:10.319189;-84.4324697
END:VEVENT
BEGIN:VEVENT
DTSTART;TZID=America/Costa_Rica:20231016T140000
DTEND;TZID=America/Costa_Rica:20231016T150000
DTSTAMP:20260425T144433
CREATED:20231012T095150Z
LAST-MODIFIED:20231012T095150Z
UID:10001861-1697464800-1697468400@findingada.com
SUMMARY:Día de Ada Lovelace Costa Rica 2023 [3]
DESCRIPTION:Técnicas de localización de molécula única para la investigación de mecanismos moleculares asociados a la formación de memorias y aprendizaje \nCharla a cargo de Sofía Vargas Hernández\, estudiante de doctorado de la Rice University de EEUU.
URL:https://findingada.com/event/dia-de-ada-lovelace-costa-rica-2023-3/
LOCATION:Online Zoom\, Quesada\, Costa Rica
CATEGORIES:Events 2023
ATTACH;FMTTYPE=image/png:https://findingada.com/wp-content/uploads/2023/10/DALCR-2023-SJVH.png
ORGANIZER;CN="Red UNA STEM":MAILTO:redunastem@una.ac.cr
GEO:10.319189;-84.4324697
END:VEVENT
BEGIN:VEVENT
DTSTART;TZID=America/Costa_Rica:20231012T091500
DTEND;TZID=America/Costa_Rica:20231012T101500
DTSTAMP:20260425T144433
CREATED:20231012T094624Z
LAST-MODIFIED:20231012T094624Z
UID:10001859-1697102100-1697105700@findingada.com
SUMMARY:Día de Ada Lovelace Costa Rica 2023 [1]
DESCRIPTION:Datos y Género sobre “Calidad de vida de las mujeres que trabajan en el sector digital” \nCharla a cargo de la estudiante Yirlania Sibaja Monge de la carrera de Ingeniería del Software de la Universidad Técnica Nacional de Costa Rica.
URL:https://findingada.com/event/dia-de-ada-lovelace-costa-rica-2023-1/
LOCATION:Online Zoom\, Quesada\, Costa Rica
CATEGORIES:Events 2023
ATTACH;FMTTYPE=image/png:https://findingada.com/wp-content/uploads/2023/10/DALCR-2023-Estudiantes-2.png
ORGANIZER;CN="Red UNA STEM":MAILTO:redunastem@una.ac.cr
GEO:10.319189;-84.4324697
END:VEVENT
BEGIN:VEVENT
DTSTART;TZID=Europe/London:20211012T103000
DTEND;TZID=Europe/London:20211012T233000
DTSTAMP:20260425T144433
CREATED:20210930T172318Z
LAST-MODIFIED:20211001T142127Z
UID:10001745-1634034600-1634081400@findingada.com
SUMMARY:[ONLINE] Solar orbiter – Building an Instrument to Study the Sun
DESCRIPTION:Mrs Chris Brockley-Blatt: Institute of Mechanical Engineers. Solar Orbiter will address big questions in Solar System science to help us understand how our star creates and controls the giant bubble of plasma that surrounds the whole Solar System and influences the planets within it.
URL:https://findingada.com/event/online-solar-orbiter-building-an-instrument-to-study-the-sun/
LOCATION:Online Zoom\, Quesada\, Costa Rica
CATEGORIES:Events 2021
ORGANIZER;CN="Sidmouth Science Festival":MAILTO:info@sidmouthsciencefestival.org
GEO:10.319189;-84.4324697
END:VEVENT
BEGIN:VEVENT
DTSTART;VALUE=DATE:20211012
DTEND;VALUE=DATE:20211013
DTSTAMP:20260425T144433
CREATED:20211015T183745Z
LAST-MODIFIED:20211015T183745Z
UID:10001761-1633996800-1634083199@findingada.com
SUMMARY:Big Dreams Bloom presents Ada Lovelace
DESCRIPTION:The gal pals in Big Dreams Bloom will learn about the life about Ada Lovelace through the Little People Big Dreams Book\, Ada Lovelace. They will make use beads and Binary code to make name necklaces and bracelets. They will also play an unplugged coding game – Code like Ada where they will use directional coding to collect all the items on their map that use computer programming. Mostly\, they will enjoy being in a virtual community to raise the voices of women in STEM!
URL:https://findingada.com/event/big-dreams-bloom-presents-ada-lovelace/
LOCATION:Online Zoom\, Quesada\, Costa Rica
CATEGORIES:Events 2021
ATTACH;FMTTYPE=image/png:https://findingada.com/wp-content/uploads/2021/10/BDB-main-logo-web-01-1.png
ORGANIZER;CN="Big Dreams Bloom":MAILTO:emily@bigdreamsbloom.com
GEO:10.319189;-84.4324697
END:VEVENT
END:VCALENDAR