BEGIN:VCALENDAR
VERSION:2.0
PRODID:-//Ada Lovelace Day - ECPv6.15.18//NONSGML v1.0//EN
CALSCALE:GREGORIAN
METHOD:PUBLISH
X-WR-CALNAME:Ada Lovelace Day
X-ORIGINAL-URL:https://findingada.com
X-WR-CALDESC:Events for Ada Lovelace Day
REFRESH-INTERVAL;VALUE=DURATION:PT1H
X-Robots-Tag:noindex
X-PUBLISHED-TTL:PT1H
BEGIN:VTIMEZONE
TZID:Europe/London
BEGIN:DAYLIGHT
TZOFFSETFROM:+0000
TZOFFSETTO:+0100
TZNAME:BST
DTSTART:20140330T010000
END:DAYLIGHT
BEGIN:STANDARD
TZOFFSETFROM:+0100
TZOFFSETTO:+0000
TZNAME:GMT
DTSTART:20141026T010000
END:STANDARD
BEGIN:DAYLIGHT
TZOFFSETFROM:+0000
TZOFFSETTO:+0100
TZNAME:BST
DTSTART:20150329T010000
END:DAYLIGHT
BEGIN:STANDARD
TZOFFSETFROM:+0100
TZOFFSETTO:+0000
TZNAME:GMT
DTSTART:20151025T010000
END:STANDARD
BEGIN:DAYLIGHT
TZOFFSETFROM:+0000
TZOFFSETTO:+0100
TZNAME:BST
DTSTART:20160327T010000
END:DAYLIGHT
BEGIN:STANDARD
TZOFFSETFROM:+0100
TZOFFSETTO:+0000
TZNAME:GMT
DTSTART:20161030T010000
END:STANDARD
END:VTIMEZONE
BEGIN:VEVENT
DTSTART;TZID=Europe/London:20151013T183000
DTEND;TZID=Europe/London:20151013T200000
DTSTAMP:20260424T101435
CREATED:20151009T142656Z
LAST-MODIFIED:20151009T142656Z
UID:10001132-1444761000-1444766400@findingada.com
SUMMARY:GA + INTERCHANGE HAPPY HOUR
DESCRIPTION:Join us for a celebration of the opening of Interchange in Camden!General Assembly + Interchange have teamed up for an evening of drinks + mingling with London’s startup & creative communities! \nAll are welcome\, drinks are on us (while tickets last). Stop by anytime and take advantage of the opportunity to see Interchange’s brand new co-working space in the heart of Camden. \nWe’ll also allude to it being Ada Lovelace Day! 🙂
URL:https://findingada.com/event/ga-interchange-happy-hour/
LOCATION:Interchange Triangle\, The Stables Market\, Camden Lock Road\, London\, NW1 8AH\, United Kingdom
CATEGORIES:Events 2015
ATTACH;FMTTYPE=image/jpeg:https://findingada.com/wp-content/uploads/2015/10/mobile-love-happy-hour.jpeg
GEO:51.5414087;-0.146597
X-APPLE-STRUCTURED-LOCATION;VALUE=URI;X-ADDRESS=Interchange Triangle The Stables Market Camden Lock Road London NW1 8AH United Kingdom;X-APPLE-RADIUS=500;X-TITLE=The Stables Market\, Camden Lock Road:geo:-0.146597,51.5414087
END:VEVENT
END:VCALENDAR