BEGIN:VCALENDAR
VERSION:2.0
PRODID:-//Ada Lovelace Day - ECPv6.15.18//NONSGML v1.0//EN
CALSCALE:GREGORIAN
METHOD:PUBLISH
X-ORIGINAL-URL:https://findingada.com
X-WR-CALDESC:Events for Ada Lovelace Day
REFRESH-INTERVAL;VALUE=DURATION:PT1H
X-Robots-Tag:noindex
X-PUBLISHED-TTL:PT1H
BEGIN:VTIMEZONE
TZID:Europe/London
BEGIN:DAYLIGHT
TZOFFSETFROM:+0000
TZOFFSETTO:+0100
TZNAME:BST
DTSTART:20160327T010000
END:DAYLIGHT
BEGIN:STANDARD
TZOFFSETFROM:+0100
TZOFFSETTO:+0000
TZNAME:GMT
DTSTART:20161030T010000
END:STANDARD
BEGIN:DAYLIGHT
TZOFFSETFROM:+0000
TZOFFSETTO:+0100
TZNAME:BST
DTSTART:20170326T010000
END:DAYLIGHT
BEGIN:STANDARD
TZOFFSETFROM:+0100
TZOFFSETTO:+0000
TZNAME:GMT
DTSTART:20171029T010000
END:STANDARD
BEGIN:DAYLIGHT
TZOFFSETFROM:+0000
TZOFFSETTO:+0100
TZNAME:BST
DTSTART:20180325T010000
END:DAYLIGHT
BEGIN:STANDARD
TZOFFSETFROM:+0100
TZOFFSETTO:+0000
TZNAME:GMT
DTSTART:20181028T010000
END:STANDARD
END:VTIMEZONE
BEGIN:VEVENT
DTSTART;TZID=Europe/London:20171007T160000
DTEND;TZID=Europe/London:20171007T180000
DTSTAMP:20260424T102051
CREATED:20171002T110231Z
LAST-MODIFIED:20171002T110231Z
UID:10001342-1507392000-1507399200@findingada.com
SUMMARY:CoderDojo Quartu - Giornata di Ada Lovelace
DESCRIPTION:L’iniziativa è organizzata da Codice Rosa e dal CoderDojo Quartu e apre gli eventi del Tech Fest\, festival sul coding e la tecnologia del CoderDojo Quartu che si svolge in concomitanza con la Europe Code Week.\nL’incontro è gratuito ed è rivolto a ragazze e ragazzi dai 7 ai 13 anni. \nNel corso del laboratorio i bambini impareranno a programmare insieme ai volontari del CoderDojo Quartu e di Codice Rosa.\nL’evento ha la finalità di favorire l’apprendimento del coding e di sensibilizzare sull’importanza della presenza delle donne in ambito tecnologico e scientifico.\nL’evento è gratuito\, per partecipare è necessario effettuare l’iscrizione.\nE’ possibile iscriversi sino a esaurimento posti. \nIl link per l’iscrizione su Eventbrite: http://bit.ly/GiornataDiAdaLovelace2017Eventbrite.
URL:https://findingada.com/event/coderdojo-quartu-giornata-di-ada-lovelace/
LOCATION:Centro Area 3\, via Carpaccio 16 \, Cagliari\, Sardegna\, 09121\, Italy
CATEGORIES:Events 2017
ORGANIZER;CN="CoderDojo Quartu":MAILTO:coderdojoquartu@hotmail.com
GEO:39.2509799;9.098129
X-APPLE-STRUCTURED-LOCATION;VALUE=URI;X-ADDRESS=Centro Area 3 via Carpaccio 16  Cagliari Sardegna 09121 Italy;X-APPLE-RADIUS=500;X-TITLE=via Carpaccio 16:geo:9.098129,39.2509799
END:VEVENT
END:VCALENDAR