BEGIN:VCALENDAR
VERSION:2.0
PRODID:-//Ada Lovelace Day - ECPv6.15.18//NONSGML v1.0//EN
CALSCALE:GREGORIAN
METHOD:PUBLISH
X-WR-CALNAME:Ada Lovelace Day
X-ORIGINAL-URL:https://findingada.com
X-WR-CALDESC:Events for Ada Lovelace Day
REFRESH-INTERVAL;VALUE=DURATION:PT1H
X-Robots-Tag:noindex
X-PUBLISHED-TTL:PT1H
BEGIN:VTIMEZONE
TZID:America/New_York
BEGIN:DAYLIGHT
TZOFFSETFROM:-0500
TZOFFSETTO:-0400
TZNAME:EDT
DTSTART:20190310T070000
END:DAYLIGHT
BEGIN:STANDARD
TZOFFSETFROM:-0400
TZOFFSETTO:-0500
TZNAME:EST
DTSTART:20191103T060000
END:STANDARD
BEGIN:DAYLIGHT
TZOFFSETFROM:-0500
TZOFFSETTO:-0400
TZNAME:EDT
DTSTART:20200308T070000
END:DAYLIGHT
BEGIN:STANDARD
TZOFFSETFROM:-0400
TZOFFSETTO:-0500
TZNAME:EST
DTSTART:20201101T060000
END:STANDARD
BEGIN:DAYLIGHT
TZOFFSETFROM:-0500
TZOFFSETTO:-0400
TZNAME:EDT
DTSTART:20210314T070000
END:DAYLIGHT
BEGIN:STANDARD
TZOFFSETFROM:-0400
TZOFFSETTO:-0500
TZNAME:EST
DTSTART:20211107T060000
END:STANDARD
END:VTIMEZONE
BEGIN:VEVENT
DTSTART;TZID=America/New_York:20201013T120000
DTEND;TZID=America/New_York:20201013T130000
DTSTAMP:20260425T144323
CREATED:20200917T141054Z
LAST-MODIFIED:20201008T134139Z
UID:10001691-1602590400-1602594000@findingada.com
SUMMARY:[ONLINE] Lunch Hour Panel with Bloomington Women in STEAM
DESCRIPTION:Cardinal Stage and The Mill host a panel discussion with four Bloomington Women working in STEAM fields. This will be a virtual event\, hosted on Crowdcast and streamed live on Cardinal Stage’s Facebook page. \nAdditional ALD activities include an exhibit of data visualization “Macroscopes” at the Dimension Mill and video interviews with women in technical theater on Cardinal Stage’s social media. \nFind a full listing of events at https://cardinalstage.org/event/ada/
URL:https://findingada.com/event/online-lunch-hour-panel-with-bloomington-women-in-steam/
LOCATION:Cardinal Stage\, 411 E 7th St\, Bloomington\, IN\, 47408\, United States
CATEGORIES:Events 2020
ATTACH;FMTTYPE=image/png:https://findingada.com/wp-content/uploads/2020/09/ALD-2020-image.png
ORGANIZER;CN="Cardinal Stage":MAILTO:kate@cardinalstage.org
GEO:39.168802;-86.5290139
X-APPLE-STRUCTURED-LOCATION;VALUE=URI;X-ADDRESS=Cardinal Stage 411 E 7th St Bloomington IN 47408 United States;X-APPLE-RADIUS=500;X-TITLE=411 E 7th St:geo:-86.5290139,39.168802
END:VEVENT
END:VCALENDAR