BEGIN:VCALENDAR
VERSION:2.0
PRODID:-//Ada Lovelace Day - ECPv6.15.18//NONSGML v1.0//EN
CALSCALE:GREGORIAN
METHOD:PUBLISH
X-WR-CALNAME:Ada Lovelace Day
X-ORIGINAL-URL:https://findingada.com
X-WR-CALDESC:Events for Ada Lovelace Day
REFRESH-INTERVAL;VALUE=DURATION:PT1H
X-Robots-Tag:noindex
X-PUBLISHED-TTL:PT1H
BEGIN:VTIMEZONE
TZID:Europe/London
BEGIN:DAYLIGHT
TZOFFSETFROM:+0000
TZOFFSETTO:+0100
TZNAME:BST
DTSTART:20150329T010000
END:DAYLIGHT
BEGIN:STANDARD
TZOFFSETFROM:+0100
TZOFFSETTO:+0000
TZNAME:GMT
DTSTART:20151025T010000
END:STANDARD
BEGIN:DAYLIGHT
TZOFFSETFROM:+0000
TZOFFSETTO:+0100
TZNAME:BST
DTSTART:20160327T010000
END:DAYLIGHT
BEGIN:STANDARD
TZOFFSETFROM:+0100
TZOFFSETTO:+0000
TZNAME:GMT
DTSTART:20161030T010000
END:STANDARD
BEGIN:DAYLIGHT
TZOFFSETFROM:+0000
TZOFFSETTO:+0100
TZNAME:BST
DTSTART:20170326T010000
END:DAYLIGHT
BEGIN:STANDARD
TZOFFSETFROM:+0100
TZOFFSETTO:+0000
TZNAME:GMT
DTSTART:20171029T010000
END:STANDARD
END:VTIMEZONE
BEGIN:VEVENT
DTSTART;TZID=Europe/London:20161011T170000
DTEND;TZID=Europe/London:20161011T192000
DTSTAMP:20260423T173046
CREATED:20160929T124243Z
LAST-MODIFIED:20160929T124243Z
UID:10001017-1476205200-1476213600@findingada.com
SUMMARY:Courageous Conversations
DESCRIPTION:Standing up for a belief\, declaring a dream out loud\, dealing with change\, seeking advice\, providing feedback\, having to be confident in a sticky situation… \nCourageous Conversations is about how our speakers tackled a ‘courageous conversation’ in their own unique way. Like Ada Lovelace\, our speakers are women who advocate the importance gender diversity in the workplace and the tech industry.
URL:https://findingada.com/event/courageous-conversations/
LOCATION:BNZ Harbour Quays\, Level 1\, 60 Waterloo Quay\, Pipitea\, Wellington\, Wellington\, 6011\, New Zealand
CATEGORIES:Events 2016
ATTACH;FMTTYPE=image/jpeg:https://findingada.com/wp-content/uploads/2016/09/Fantail_Network_Twitter_1.jpg
ORGANIZER;CN="Fantail Network":MAILTO:admin@fantailnetwork.co.nz
GEO:-41.2792985;174.7820637
X-APPLE-STRUCTURED-LOCATION;VALUE=URI;X-ADDRESS=BNZ Harbour Quays Level 1 60 Waterloo Quay Pipitea Wellington Wellington 6011 New Zealand;X-APPLE-RADIUS=500;X-TITLE=Level 1\, 60 Waterloo Quay\, Pipitea:geo:174.7820637,-41.2792985
END:VEVENT
END:VCALENDAR