BEGIN:VCALENDAR
VERSION:2.0
PRODID:-//Ada Lovelace Day - ECPv6.15.18//NONSGML v1.0//EN
CALSCALE:GREGORIAN
METHOD:PUBLISH
X-WR-CALNAME:Ada Lovelace Day
X-ORIGINAL-URL:https://findingada.com
X-WR-CALDESC:Events for Ada Lovelace Day
REFRESH-INTERVAL;VALUE=DURATION:PT1H
X-Robots-Tag:noindex
X-PUBLISHED-TTL:PT1H
BEGIN:VTIMEZONE
TZID:Europe/London
BEGIN:DAYLIGHT
TZOFFSETFROM:+0000
TZOFFSETTO:+0100
TZNAME:BST
DTSTART:20210328T010000
END:DAYLIGHT
BEGIN:STANDARD
TZOFFSETFROM:+0100
TZOFFSETTO:+0000
TZNAME:GMT
DTSTART:20211031T010000
END:STANDARD
BEGIN:DAYLIGHT
TZOFFSETFROM:+0000
TZOFFSETTO:+0100
TZNAME:BST
DTSTART:20220327T010000
END:DAYLIGHT
BEGIN:STANDARD
TZOFFSETFROM:+0100
TZOFFSETTO:+0000
TZNAME:GMT
DTSTART:20221030T010000
END:STANDARD
BEGIN:DAYLIGHT
TZOFFSETFROM:+0000
TZOFFSETTO:+0100
TZNAME:BST
DTSTART:20230326T010000
END:DAYLIGHT
BEGIN:STANDARD
TZOFFSETFROM:+0100
TZOFFSETTO:+0000
TZNAME:GMT
DTSTART:20231029T010000
END:STANDARD
BEGIN:DAYLIGHT
TZOFFSETFROM:+0000
TZOFFSETTO:+0100
TZNAME:BST
DTSTART:20240331T010000
END:DAYLIGHT
BEGIN:STANDARD
TZOFFSETFROM:+0100
TZOFFSETTO:+0000
TZNAME:GMT
DTSTART:20241027T010000
END:STANDARD
BEGIN:DAYLIGHT
TZOFFSETFROM:+0000
TZOFFSETTO:+0100
TZNAME:BST
DTSTART:20250330T010000
END:DAYLIGHT
BEGIN:STANDARD
TZOFFSETFROM:+0100
TZOFFSETTO:+0000
TZNAME:GMT
DTSTART:20251026T010000
END:STANDARD
END:VTIMEZONE
BEGIN:VEVENT
DTSTART;TZID=Europe/London:20241002T093000
DTEND;TZID=Europe/London:20241002T153000
DTSTAMP:20260423T142721
CREATED:20240812T203058Z
LAST-MODIFIED:20240812T203058Z
UID:10001862-1727861400-1727883000@findingada.com
SUMMARY:Digital Future Days: Ada Lovelace Day (13-18 years)
DESCRIPTION:Digital Future Days – Ignite the Tech Leaders of Tomorrow \nAre you ready to inspire the next generation of tech enthusiasts and ignite their passion for digital skills? Join us for Digital Future Days at The National Museum of Computing (TNMOC)\, a thrilling series of educational events designed exclusively for school and home-educator groups\, bridging the gap between employers and future employees in the dynamic world of technology. \nAbout the Event: \nDigital Future Days is an exciting initiative hosted by TNMOC\, dedicated to empowering school-age learners with the knowledge and skills they need to thrive in the digital era. Through a series of engaging events held throughout the year\, we provide a unique opportunity for students and educators to explore and develop desirable digital skills while connecting with industry leaders with the added bonus of all the benefits of immersion in heritage.
URL:https://findingada.com/event/digital-future-days-ada-lovelace-day-13-18-years/
LOCATION:The National Museum of Computing\, Block H\, Bletchley\, MK3 6EB\, United Kingdom
CATEGORIES:Events 2024
ATTACH;FMTTYPE=image/png:https://findingada.com/wp-content/uploads/2024/08/IS-edits-1.png
ORGANIZER;CN="The National Museum of Computing":MAILTO:operations@tnmoc.org
GEO:51.9973118;-0.7430609
X-APPLE-STRUCTURED-LOCATION;VALUE=URI;X-ADDRESS=The National Museum of Computing Block H Bletchley MK3 6EB United Kingdom;X-APPLE-RADIUS=500;X-TITLE=Block H:geo:-0.7430609,51.9973118
END:VEVENT
BEGIN:VEVENT
DTSTART;TZID=Europe/London:20231009T093000
DTEND;TZID=Europe/London:20231009T160000
DTSTAMP:20260423T142721
CREATED:20230922T150929Z
LAST-MODIFIED:20230922T150947Z
UID:10001478-1696843800-1696867200@findingada.com
SUMMARY:Digital Future Days: Ada Lovelace Day (11-16 years)
DESCRIPTION:Digital Future Days – Ignite the Tech Leaders of Tomorrow \nAre you ready to inspire the next generation of tech enthusiasts and ignite their passion for digital skills? Join us for Digital Future Days at The National Museum of Computing (TNMOC)\, a thrilling series of educational events designed exclusively for school and home-educator groups\, bridging the gap between employers and future employees in the dynamic world of technology. Proudly Sponsored by Pete the Engineer \nAbout the Event: \nDigital Future Days is an exciting initiative hosted by TNMOC\, dedicated to empowering school-age learners with the knowledge and skills they need to thrive in the digital era. Through a series of 20 engaging events held throughout the year\, we provide a unique opportunity for students and educators to explore and develop desirable digital skills while connecting with industry leaders. \nEvent Highlights: \nInspiring Talks by Industry Leaders: Learn from seasoned professionals and industry experts who are at the forefront of technological advancements. Gain insights into the world of tech\, discover exciting career paths\, and find out how you can make a difference in the digital landscape. \nHands-on Workshops: Immerse yourself in interactive workshops where you can put your digital skills to the test. From coding challenges to virtual reality experiences\, our hands-on activities promise to be both educational and fun! \nNetworking Opportunities: Meet and connect with like-minded peers\, educators\, and tech enthusiasts. Network with industry professionals and build connections that could pave the way for your future tech journey. \nEmpowering Digital Futures: Digital Future Days is not just about technical skills; it’s about nurturing critical thinking\, problem-solving abilities\, and creativity. We believe in empowering young minds to become the changemakers of tomorrow. \nEvent Details: \nTime: 10:00 AM – 4:00 PM (Registration begins at 9:30 AM) \nLocation: The National Museum of Computing\, Bletchley Park\, Block H\, Bletchley Park\, Bletchley\, Milton Keynes MK3 6DS \nTicket Options: Tickets are available for school and home-educator groups (limited availability; max. 20 per academic institution\, register early to secure your spot). \n  \nExperience History in Action: Discover the captivating world of technology within TNMOC’s historic Bletchley Park setting. Immerse yourself in an unparalleled interactive learning experience\, surrounded by our unique collection of working historic machines. \n  \nSample Schedule for the Day*: \n09:30 – 10:00; Registration and Welcome \n10:00 – 10:40; RAF Brize \n10:45 – 11:25; Data Representation \n11:30 – 12:10; VR Experience \n12:15 – 13:25; Lunch \n13:30 – 14:10; Women in Computing \n14:15 – 14:55; Data STEMinism \n15:00 – 15:40; BBC Basic \n15:45 – 16:00; Closing Remarks and Group Photo \n  \nRAF Brize: The wonderful Youth STEM team from RAF Brize Norton will be supporting this event with a hands-on learning experience. Further details to follow. \nData Representation: Embark on an interactive exploration of the museum\, led by tablets\, as we trace the fascinating development of data representation to higher-level programming languages. Unveil the wonders of programming languages\, understanding their benefits and challenges in the ever-changing tech landscape. From the foundations of data representation to the complexities of modern programming\, immerse yourself in this captivating journey where knowledge comes alive. Join us and unlock the secrets of programming languages\, as we bridge the past with the boundless possibilities of the future. \nVR Experience: Immerse yourself in the captivating world of Keep Talking and Nobody Explodes (KTaNE)\, a Virtual Reality puzzle game that sparks your curiosity and sharpens your computational thinking. Navigate the Bomb using the VR headset\, relying on your teammate’s propensity for abstraction to solve decomposed puzzle modules. This unforgettable experience nurtures teamwork\, critical thinking\, and computational skills essential for success in our digital world. Level up your problem-solving prowess! \nWomen in Computing: Discover the remarkable accomplishments of female trailblazers in computing through our tablet-led treasure trail. Explore the museum and learn about the women who shaped the tech world\, leaving a lasting impact on technology and society. Join us on this empowering journey to honour their groundbreaking achievements! \nData STEMinism: Join us on an empowering journey through historic statistics for women in STEM subjects in our enlightening workshop. Dive into the socio-economic context surrounding women in these fields\, uncovering the challenges they faced and the progress they made. Explore the stories of trailblazing women who defied societal norms\, paving the way for future generations. Through data-driven insights\, we’ll shed light on the transformative impact of diversity in STEM and ignite a passion for inclusivity and empowerment. Let’s celebrate the achievements of women in science\, technology\, engineering\, and mathematics\, and inspire change for a more equitable future! \nBBC Basic: Get ready to transport back in time to the iconic 80s era with our thrilling workshop! Join us as we dive into nostalgia and program the legendary game of Snake using BBC Basic on authentic BBC Micro computers. Embrace the simplicity and charm of retro gaming as we unleash your creativity to design and code your very own version of Snake. The classic green screen and vintage hardware provide the perfect backdrop for this unforgettable coding adventure. Channel your inner programmer and embark on an exciting journey\, bringing the golden age of gaming back to life in our retro 80s classroom! \n*Schedule is subject to change dependent on uptake and partner engagement\, updates will be shared. The order of activities will vary on the day. \n  \nJoin us for an unforgettable experience as we embark on a journey of digital discovery and innovation. Reserve your group’s spot for Digital Future Days and be a part of shaping the future of technology! Please note\, that the sample schedule is subject to change as new partners are engaged\, and updates will be shared with registered participants. \n  \nIMPORTANT: Terms and Conditions \nSpaces are limited. The capacity for this event is 120 students. \nThe event name details the suggested age of participants\, please check to ensure your learners fall within the suggested age group. \nSchools must give 2 months’ notice if they will not be attending; this will enable their places to be offered to another school on the Waiting List. Failure to do so will incur a charge of £160.00.
URL:https://findingada.com/event/digital-future-days-ada-lovelace-day-11-16-years/
LOCATION:The National Museum of Computing\, Block H\, Bletchley\, MK3 6EB\, United Kingdom
CATEGORIES:Events 2023
ATTACH;FMTTYPE=image/jpeg:https://findingada.com/wp-content/uploads/2023/09/tmnoc.jpg
ORGANIZER;CN="The National Museum of Computing":MAILTO:operations@tnmoc.org
GEO:51.9973118;-0.7430609
X-APPLE-STRUCTURED-LOCATION;VALUE=URI;X-ADDRESS=The National Museum of Computing Block H Bletchley MK3 6EB United Kingdom;X-APPLE-RADIUS=500;X-TITLE=Block H:geo:-0.7430609,51.9973118
END:VEVENT
BEGIN:VEVENT
DTSTART;VALUE=DATE:20221012
DTEND;VALUE=DATE:20221013
DTSTAMP:20260423T142721
CREATED:20221005T141823Z
LAST-MODIFIED:20221005T141823Z
UID:10001773-1665532800-1665619199@findingada.com
SUMMARY:Digital Futures: Ada Lovelace Day
DESCRIPTION:About This Event:  \nAda Lovelace was the first person to suggest that numbers processed by a computer could represent any kind of data\, not limited to just numerical calculations. Ada’s impressive forward thinking concerning computer capabilities represents the birth of computer programming.  \nAs a Museum\, we strive to champion\, support and enthuse young women in their pursuit of and engagement with STEM (Science\, Technology\, Engineering and Mathematics) subjects. Our Ada Lovelace Day is an opportunity for female students to experience interactive\, innovative and careers-focused hands-on activities and hear from leading inspirational women in the industry. The young women attending will be supported in realising their full potential and encouraged to consider careers in Computing.  \nProgramme: \nWomen in Computing Trail [TNMOC\, Museum Exploration] \nBe inspired by the impressive technological achievements of past and present Women in Computing! Discover inspirational female role models and explore their impact on the industry in this interactive museum exploration with a competitive edge. \nData STEMinism [TNMOC\, Innovation Hub] \nTo fully appreciate the limitless digital futures available to young women now\, we must understand the endemic barriers to these; how many have been overcome and the wider impact of these developments. Explore statistics of Women working in STEM subjects over the last 50 years in this practical workshop designed to build skills with data analysis and data representation. \nProgramming languages [TNMOC\, Museum Exploration] \nAda Lovelace is widely attributed with writing the first computer programme (before computers even existed). From 5-hole punch tape to Python! Explore how programming languages have progressed over the decades and solve puzzles using them to develop depth of understanding and choose your favourite. \nBBC BASIC [TNMOC\, BBC Classroom] \nTo understand the future trajectory of Programing\, we need to consider its history; go back in time to our 80s classroom and build on newfound understanding of programming languages by writing your own\, customisable\, game of Snake on our original\, working BBC Micros. We have 3 challenges here: \n“Fastest Programmer” – time to write the programme \n“Fastest debugger” – time to get the game working \n“Top score” \nAnd more… \n(Schedule subject to change) \nTimings: \n09:30 – 15:30hrs (students are welcome to explore independently until 4.30pm) \nLocation: \nThe National Museum of Computing Block H\, Bletchley Park\, Bletchley\, Milton Keynes MK3 6DS.
URL:https://findingada.com/event/digital-futures-ada-lovelace-day/
LOCATION:The National Museum of Computing\, Block H\, Bletchley\, MK3 6EB\, United Kingdom
CATEGORIES:Events 2022
ATTACH;FMTTYPE=image/png:https://findingada.com/wp-content/uploads/2022/10/Screenshot-316.png
ORGANIZER;CN="The National Museum of Computing":MAILTO:operations@tnmoc.org
GEO:51.9973118;-0.7430609
X-APPLE-STRUCTURED-LOCATION;VALUE=URI;X-ADDRESS=The National Museum of Computing Block H Bletchley MK3 6EB United Kingdom;X-APPLE-RADIUS=500;X-TITLE=Block H:geo:-0.7430609,51.9973118
END:VEVENT
END:VCALENDAR