BEGIN:VCALENDAR
VERSION:2.0
PRODID:-//Ada Lovelace Day - ECPv6.15.18//NONSGML v1.0//EN
CALSCALE:GREGORIAN
METHOD:PUBLISH
X-ORIGINAL-URL:https://findingada.com
X-WR-CALDESC:Events for Ada Lovelace Day
REFRESH-INTERVAL;VALUE=DURATION:PT1H
X-Robots-Tag:noindex
X-PUBLISHED-TTL:PT1H
BEGIN:VTIMEZONE
TZID:Europe/London
BEGIN:DAYLIGHT
TZOFFSETFROM:+0000
TZOFFSETTO:+0100
TZNAME:BST
DTSTART:20150329T010000
END:DAYLIGHT
BEGIN:STANDARD
TZOFFSETFROM:+0100
TZOFFSETTO:+0000
TZNAME:GMT
DTSTART:20151025T010000
END:STANDARD
BEGIN:DAYLIGHT
TZOFFSETFROM:+0000
TZOFFSETTO:+0100
TZNAME:BST
DTSTART:20160327T010000
END:DAYLIGHT
BEGIN:STANDARD
TZOFFSETFROM:+0100
TZOFFSETTO:+0000
TZNAME:GMT
DTSTART:20161030T010000
END:STANDARD
BEGIN:DAYLIGHT
TZOFFSETFROM:+0000
TZOFFSETTO:+0100
TZNAME:BST
DTSTART:20170326T010000
END:DAYLIGHT
BEGIN:STANDARD
TZOFFSETFROM:+0100
TZOFFSETTO:+0000
TZNAME:GMT
DTSTART:20171029T010000
END:STANDARD
END:VTIMEZONE
BEGIN:VEVENT
DTSTART;TZID=Europe/London:20161005T140000
DTEND;TZID=Europe/London:20161005T180000
DTSTAMP:20260419T191118
CREATED:20161003T150020Z
LAST-MODIFIED:20161003T150110Z
UID:10001252-1475676000-1475690400@findingada.com
SUMMARY:Faculty of Natural & Mathematical Sciences\, King's College London - Ada Lovelace Day
DESCRIPTION:As part of our ‘Women in Science Week’ speakers for the Faculty of Natural & Mathematical Sciences Ada Lovelace Day 2016 include Kate Russell\, a journalist\, reporter and author who speaks regularly to inspire the next generation of technologists and was voted the Computer Weekly 13th most influential woman in UK IT. \nThe Department of Chemistry’s Dr Helen Coulshed has been involved in numerous outreach activities\, mentoring and women in science groups\, while pursuing her own research in chemistry and chemical education. \nRepresentatives from WiSTEM student society will speak on their recent experience and plans for the future and Professor Peter Main\, Head of Department of Physics and Chair of the Faculty Equality & Diversity committee\, will lead a panel discussion on the importance of gender equality in STEM and how we can strive to achieve it. \nBringing Women in Science week to a close\, the Ada Lovelace Day reception will provide an interactive opportunity to reflect on the issues discussed over the course of the week. Learn more about the NMS Women in Science initiative\, what activities are taking place across the university\, and meet with representatives from student society WiSTEM.
URL:https://findingada.com/event/faculty-of-natural-mathematical-sciences-kings-college-london-ada-lovelace-day/
LOCATION:King’s College London\, Strand\, London\, WC2r 2LS\, United Kingdom
CATEGORIES:Events 2016
ORGANIZER;CN="Lucy Ward":MAILTO:lucy.ward@kcl.ac.uk 
GEO:51.5111891;-0.119333
X-APPLE-STRUCTURED-LOCATION;VALUE=URI;X-ADDRESS=King’s College London Strand London WC2r 2LS United Kingdom;X-APPLE-RADIUS=500;X-TITLE=Strand:geo:-0.119333,51.5111891
END:VEVENT
END:VCALENDAR