BEGIN:VCALENDAR
VERSION:2.0
PRODID:-//Ada Lovelace Day - ECPv6.15.18//NONSGML v1.0//EN
CALSCALE:GREGORIAN
METHOD:PUBLISH
X-ORIGINAL-URL:https://findingada.com
X-WR-CALDESC:Events for Ada Lovelace Day
REFRESH-INTERVAL;VALUE=DURATION:PT1H
X-Robots-Tag:noindex
X-PUBLISHED-TTL:PT1H
BEGIN:VTIMEZONE
TZID:Europe/London
BEGIN:DAYLIGHT
TZOFFSETFROM:+0000
TZOFFSETTO:+0100
TZNAME:BST
DTSTART:20170326T010000
END:DAYLIGHT
BEGIN:STANDARD
TZOFFSETFROM:+0100
TZOFFSETTO:+0000
TZNAME:GMT
DTSTART:20171029T010000
END:STANDARD
BEGIN:DAYLIGHT
TZOFFSETFROM:+0000
TZOFFSETTO:+0100
TZNAME:BST
DTSTART:20180325T010000
END:DAYLIGHT
BEGIN:STANDARD
TZOFFSETFROM:+0100
TZOFFSETTO:+0000
TZNAME:GMT
DTSTART:20181028T010000
END:STANDARD
BEGIN:DAYLIGHT
TZOFFSETFROM:+0000
TZOFFSETTO:+0100
TZNAME:BST
DTSTART:20190331T010000
END:DAYLIGHT
BEGIN:STANDARD
TZOFFSETFROM:+0100
TZOFFSETTO:+0000
TZNAME:GMT
DTSTART:20191027T010000
END:STANDARD
BEGIN:DAYLIGHT
TZOFFSETFROM:+0000
TZOFFSETTO:+0100
TZNAME:BST
DTSTART:20200329T010000
END:DAYLIGHT
BEGIN:STANDARD
TZOFFSETFROM:+0100
TZOFFSETTO:+0000
TZNAME:GMT
DTSTART:20201025T010000
END:STANDARD
BEGIN:DAYLIGHT
TZOFFSETFROM:+0000
TZOFFSETTO:+0100
TZNAME:BST
DTSTART:20210328T010000
END:DAYLIGHT
BEGIN:STANDARD
TZOFFSETFROM:+0100
TZOFFSETTO:+0000
TZNAME:GMT
DTSTART:20211031T010000
END:STANDARD
BEGIN:DAYLIGHT
TZOFFSETFROM:+0000
TZOFFSETTO:+0100
TZNAME:BST
DTSTART:20220327T010000
END:DAYLIGHT
BEGIN:STANDARD
TZOFFSETFROM:+0100
TZOFFSETTO:+0000
TZNAME:GMT
DTSTART:20221030T010000
END:STANDARD
BEGIN:DAYLIGHT
TZOFFSETFROM:+0000
TZOFFSETTO:+0100
TZNAME:BST
DTSTART:20230326T010000
END:DAYLIGHT
BEGIN:STANDARD
TZOFFSETFROM:+0100
TZOFFSETTO:+0000
TZNAME:GMT
DTSTART:20231029T010000
END:STANDARD
BEGIN:DAYLIGHT
TZOFFSETFROM:+0000
TZOFFSETTO:+0100
TZNAME:BST
DTSTART:20240331T010000
END:DAYLIGHT
BEGIN:STANDARD
TZOFFSETFROM:+0100
TZOFFSETTO:+0000
TZNAME:GMT
DTSTART:20241027T010000
END:STANDARD
END:VTIMEZONE
BEGIN:VEVENT
DTSTART;TZID=Europe/London:20231010T173000
DTEND;TZID=Europe/London:20231010T193000
DTSTAMP:20260423T142624
CREATED:20230911T140407Z
LAST-MODIFIED:20230915T130232Z
UID:10001818-1696959000-1696966200@findingada.com
SUMMARY:Ada Lovelace Day at Google HQ (Maths4Girls)
DESCRIPTION:On behalf of Maths4Girls\, we would like to invite you to join the launch of a major campaign for Maths4Girls on Ada Lovelace Day at Google HQ\, London. \nCurrently only two in five girls go on to study maths beyond GCSE\, many fewer than boys. At a time when the World Economic Forum has named maths in the top 10 most desirable skills for jobs in all industries by 2025. Maths4Girls is an initiative run by the Charity Founders4Schools\, which is pioneering a national campaign to inspire and empower 11–14-year-old girls to pursue maths to achieve their ambitions. The mission is to reach 250\,000 girls (16% of TAM) with a maths role model by June 2024. \nThe Maths4Girls campaign creates opportunities to connect young girls with inspirational and successful women. By forming new connections across a wide range of industries\, Maths4Girls is giving girls more choice about the direction of their futures\, making maths a priority in school and beyond\, and encouraging positive change in the secondary education framework. \nWhere? The event will be taking place at Google HQ in St Pancras Square\, London. \nWhen? On 10 October: We would be delighted if you would be able to join us\, diary permitting. Between 17:30 – 19:30. \nWhat? Addressing and joining a reception convening 150 leaders \nThis is a private invitation only event\, if you have any questions please contact maths4girls@wearesevenhills.com.
URL:https://findingada.com/event/ada-lovelace-day-at-google-hq-maths4girls/
LOCATION:Google HQ in St Pancras Square\, London.\, 6 Pancras Square\, London\, N1C 4AG\, United Kingdom
CATEGORIES:Events 2023
ATTACH;FMTTYPE=image/jpeg:https://findingada.com/wp-content/uploads/2023/09/https___cdn.evbuc_.com_images_566058159_1119027721853_1_original.jpeg
GEO:51.5332609;-0.1260032
X-APPLE-STRUCTURED-LOCATION;VALUE=URI;X-ADDRESS=Google HQ in St Pancras Square London. 6 Pancras Square London N1C 4AG United Kingdom;X-APPLE-RADIUS=500;X-TITLE=6 Pancras Square:geo:-0.1260032,51.5332609
END:VEVENT
BEGIN:VEVENT
DTSTART;TZID=Europe/London:20221011T143000
DTEND;TZID=Europe/London:20221011T153000
DTSTAMP:20260423T142624
CREATED:20221010T083815Z
LAST-MODIFIED:20221010T113711Z
UID:10001776-1665498600-1665502200@findingada.com
SUMMARY:[ONLINE] Early Careers: Women in Tech with TCS
DESCRIPTION:As part of Founders4Schools’ Role Model Week\, Founders4Schools and TCS are delivering this event to showcase young women at the start of their careers in the tech industry.  Aimed at 11-16 year olds from schools.
URL:https://findingada.com/event/online-early-careers-women-in-tech-with-tcs/
LOCATION:Founders4Schools\, 22 Chancery Lane\, London\, WC2A 1LS\, United Kingdom
CATEGORIES:Events 2022
ATTACH;FMTTYPE=image/png:https://findingada.com/wp-content/uploads/2022/10/RMW-11-Oct-TCS.png
GEO:51.5154918;-0.1114187
X-APPLE-STRUCTURED-LOCATION;VALUE=URI;X-ADDRESS=Founders4Schools 22 Chancery Lane London WC2A 1LS United Kingdom;X-APPLE-RADIUS=500;X-TITLE=22 Chancery Lane:geo:-0.1114187,51.5154918
END:VEVENT
BEGIN:VEVENT
DTSTART;TZID=Europe/London:20211012T141000
DTEND;TZID=Europe/London:20211012T144000
DTSTAMP:20260423T142624
CREATED:20210924T155738Z
LAST-MODIFIED:20210924T155738Z
UID:10001392-1634047800-1634049600@findingada.com
SUMMARY:[ONLINE] How you can change the world (with the help of physics)
DESCRIPTION:This free webinar\, hosted by the Institute of Physics in partnership with ed-tech charity F4S\, will show young people just how powerful physics is and help them discover the career pathways studying physics can lead to. \nUnfortunately\, some young people are put off of pursuing physics from the misconceived ideas of what is\, and others are denied the opportunity to study physics due to the prejudice and stereotypes that they experience because of who they are. \nAs a result\, too many young people are made to feel that they can’t do physics\, or they just don’t ‘fit in’. F4S and the IOP are working together to combat this issue and inspire the next generation of physicists by connecting them with real life role models. \nThis webinar is held as part of F4S’s Role Model Week campaign\, sponsored by the Institute of Physics\, which aims to raise awareness of the impact role models have on young lives and help to provide relatable role models for all children\, regardless of their socio-economic background.
URL:https://findingada.com/event/online-how-you-can-change-the-world-with-the-help-of-physics/
LOCATION:Founders4Schools\, 22 Chancery Lane\, London\, WC2A 1LS\, United Kingdom
CATEGORIES:Events 2021
ATTACH;FMTTYPE=image/png:https://findingada.com/wp-content/uploads/2021/09/Physics-twitter.png
GEO:51.5154918;-0.1114187
X-APPLE-STRUCTURED-LOCATION;VALUE=URI;X-ADDRESS=Founders4Schools 22 Chancery Lane London WC2A 1LS United Kingdom;X-APPLE-RADIUS=500;X-TITLE=22 Chancery Lane:geo:-0.1114187,51.5154918
END:VEVENT
BEGIN:VEVENT
DTSTART;TZID=Europe/London:20191008T174500
DTEND;TZID=Europe/London:20191008T200000
DTSTAMP:20260423T142624
CREATED:20191008T172821Z
LAST-MODIFIED:20191008T172821Z
UID:10001343-1570556700-1570564800@findingada.com
SUMMARY:Founders4School: Maths4Girls celebrate Ada Lovelace Day - Evening Reception
DESCRIPTION:Founders4Schools celebrates Ada Lovelace Day with their new initiative Maths4Girls\n\n\n\n\n\n\nFounders4Schools are delighted to invite you to attend a drinks reception in London on Tuesday 8th October 2019 in celebration of Ada Lovelace Day.\n\n\nWe would like to mark this occasion by telling you about the launch of our exciting new project\, Maths4Girls. Supported by the global network\, 100 Women in Finance\, this programme aims to address the low levels of girls taking maths beyond GCSEs. By connecting girls with trailblazing female volunteers\, we want to inspire girls to take maths further and to rebalance the representation of women in maths related industries. \nThis is an incredibly exciting project and I do hope you’ll join us to hear more. \nThe event will bring together our community of business leaders\, educators\, partners and influencers\, all of whom are seeking to help young people navigate a better future and fulfil their potential. \nSpeakers during the event include: \n\nSherry Coutu CBE\, Founder and Chair of Founders4Schools\nJoanna Santinon\, EY Partner\n\nWe look forward to seeing you there.
URL:https://findingada.com/event/founders4school-maths4girls-celebrate-ada-lovelace-day-evening-reception/
LOCATION:EY\, 1 More London Place\, London\, SE1 2AF\, United Kingdom
CATEGORIES:Events 2019
ATTACH;FMTTYPE=image/jpeg:https://findingada.com/wp-content/uploads/2019/10/founders4schools.jpg
GEO:51.505371;-0.0811427
X-APPLE-STRUCTURED-LOCATION;VALUE=URI;X-ADDRESS=EY 1 More London Place London SE1 2AF United Kingdom;X-APPLE-RADIUS=500;X-TITLE=1 More London Place:geo:-0.0811427,51.505371
END:VEVENT
BEGIN:VEVENT
DTSTART;TZID=Europe/London:20181112T080000
DTEND;TZID=Europe/London:20181112T170000
DTSTAMP:20260423T142624
CREATED:20180920T153242Z
LAST-MODIFIED:20180921T170935Z
UID:10001426-1542009600-1542042000@findingada.com
SUMMARY:F4S Ada Lovelace School Talk - Rochdale
DESCRIPTION:A school in Rochdale has arranged this Ada Lovelace Day themed careers talk\, inviting local business leaders into the classroom to celebrate the achievements of women in STEM and inspire the next generation.
URL:https://findingada.com/event/f4s-ada-lovelace-school-talk-rochdale/
LOCATION:St. Cuthbert’s RC High School\, Shaw Road\, Rochdale\, Greater Manchester\, OL16 4RX\, United Kingdom
CATEGORIES:Events 2018
GEO:53.5894618;-2.1392533
X-APPLE-STRUCTURED-LOCATION;VALUE=URI;X-ADDRESS=St. Cuthbert’s RC High School Shaw Road Rochdale Greater Manchester OL16 4RX United Kingdom;X-APPLE-RADIUS=500;X-TITLE=Shaw Road:geo:-2.1392533,53.5894618
END:VEVENT
BEGIN:VEVENT
DTSTART;TZID=Europe/London:20181104T080000
DTEND;TZID=Europe/London:20181104T170000
DTSTAMP:20260423T142624
CREATED:20180921T160527Z
LAST-MODIFIED:20180921T160527Z
UID:10001459-1541318400-1541350800@findingada.com
SUMMARY:F4S Ada Lovelace School Talk - Banbury
DESCRIPTION:Banbury and Bicester College have arranged this Ada Lovelace Day themed careers talk\, inviting local business leaders into the classroom to celebrate the achievements of women in STEM and inspire the next generation.
URL:https://findingada.com/event/f4s-ada-lovelace-school-talk-banbury/
LOCATION:Banbury and Bicester College\, Broughton Road\, Banbury\, Oxfordshire\, OX16 9QA\, United Kingdom
CATEGORIES:Events 2018
ATTACH;FMTTYPE=image/jpeg:https://findingada.com/wp-content/uploads/2018/09/ALD-image-14.jpg
GEO:52.0590685;-1.3481732
X-APPLE-STRUCTURED-LOCATION;VALUE=URI;X-ADDRESS=Banbury and Bicester College Broughton Road Banbury Oxfordshire OX16 9QA United Kingdom;X-APPLE-RADIUS=500;X-TITLE=Broughton Road:geo:-1.3481732,52.0590685
END:VEVENT
BEGIN:VEVENT
DTSTART;TZID=Europe/London:20181031T080000
DTEND;TZID=Europe/London:20181031T170000
DTSTAMP:20260423T142624
CREATED:20180920T153506Z
LAST-MODIFIED:20180921T171853Z
UID:10001428-1540972800-1541005200@findingada.com
SUMMARY:F4S Ada Lovelace School Talk - Reading
DESCRIPTION:Reading Girls’ School has arranged this Ada Lovelace Day themed careers talk\, inviting local business leaders into the classroom to celebrate the achievements of women in STEM and inspire the next generation.
URL:https://findingada.com/event/f4s-ada-lovelace-school-talk-reading/
LOCATION:Reading Girls’ School\, Northumberland Avenue\, Reading\, Berkshire\, RG2 7PY\, United Kingdom
CATEGORIES:Events 2018
ATTACH;FMTTYPE=image/jpeg:https://findingada.com/wp-content/uploads/2018/09/ALD-image.jpg
GEO:51.4367456;-0.962652
X-APPLE-STRUCTURED-LOCATION;VALUE=URI;X-ADDRESS=Reading Girls’ School Northumberland Avenue Reading Berkshire RG2 7PY United Kingdom;X-APPLE-RADIUS=500;X-TITLE=Northumberland Avenue:geo:-0.962652,51.4367456
END:VEVENT
BEGIN:VEVENT
DTSTART;TZID=Europe/London:20181016T080000
DTEND;TZID=Europe/London:20181016T170000
DTSTAMP:20260423T142624
CREATED:20180920T153603Z
LAST-MODIFIED:20180921T172304Z
UID:10001429-1539676800-1539709200@findingada.com
SUMMARY:F4S Ada Lovelace School Talk - Bromley
DESCRIPTION:Bonus Pastor Catholic College has arranged this Ada Lovelace Day themed careers talk\, inviting local business leaders into the classroom to celebrate the achievements of women in STEM and inspire the next generation.
URL:https://findingada.com/event/f4s-ada-lovelace-school-talk-bromley/
LOCATION:Bonus Pastor Catholic College\, Winlaton Road\, Downham\, Bromley\, BR1 5PZ\, United Kingdom
CATEGORIES:Events 2018
ATTACH;FMTTYPE=image/jpeg:https://findingada.com/wp-content/uploads/2018/09/ALD-image-1.jpg
GEO:51.4273373;-0.0019047
X-APPLE-STRUCTURED-LOCATION;VALUE=URI;X-ADDRESS=Bonus Pastor Catholic College Winlaton Road Downham Bromley BR1 5PZ United Kingdom;X-APPLE-RADIUS=500;X-TITLE=Winlaton Road:geo:-0.0019047,51.4273373
END:VEVENT
BEGIN:VEVENT
DTSTART;TZID=Europe/London:20181009T080000
DTEND;TZID=Europe/London:20181009T170000
DTSTAMP:20260423T142624
CREATED:20180921T160630Z
LAST-MODIFIED:20180921T160630Z
UID:10001455-1539072000-1539104400@findingada.com
SUMMARY:F4S Ada Lovelace School Talk - Bristol
DESCRIPTION:Digitech Studio School have arranged this Ada Lovelace Day themed careers talk\, inviting local business leaders into the classroom to celebrate the achievements of women in STEM and inspire the next generation.
URL:https://findingada.com/event/f4s-ada-lovelace-school-talk-bristol/
LOCATION:Digitech Studio School\, Tower Road North\, Warmley\, Bristol\, United Kingdom
CATEGORIES:Events 2018
ATTACH;FMTTYPE=image/jpeg:https://findingada.com/wp-content/uploads/2018/09/ALD-image-12.jpg
GEO:51.4561798;-2.4764013
X-APPLE-STRUCTURED-LOCATION;VALUE=URI;X-ADDRESS=Digitech Studio School Tower Road North Warmley Bristol United Kingdom;X-APPLE-RADIUS=500;X-TITLE=Tower Road North\, Warmley:geo:-2.4764013,51.4561798
END:VEVENT
BEGIN:VEVENT
DTSTART;TZID=Europe/London:20181009T080000
DTEND;TZID=Europe/London:20181009T170000
DTSTAMP:20260423T142624
CREATED:20180921T160628Z
LAST-MODIFIED:20180921T160628Z
UID:10001457-1539072000-1539104400@findingada.com
SUMMARY:F4S Ada Lovelace School Talk - Bradford
DESCRIPTION:Bradford Grammar School have arranged this Ada Lovelace Day themed careers talk\, inviting local business leaders into the classroom to celebrate the achievements of women in STEM and inspire the next generation.
URL:https://findingada.com/event/f4s-ada-lovelace-school-talk-bradford/
LOCATION:Bradford Grammar School\, Keighley Road\, Bradford\, BD9 4JP\, United Kingdom
CATEGORIES:Events 2018
ATTACH;FMTTYPE=image/jpeg:https://findingada.com/wp-content/uploads/2018/09/ALD-image-13.jpg
GEO:53.8137192;-1.7705169
X-APPLE-STRUCTURED-LOCATION;VALUE=URI;X-ADDRESS=Bradford Grammar School Keighley Road Bradford BD9 4JP United Kingdom;X-APPLE-RADIUS=500;X-TITLE=Keighley Road:geo:-1.7705169,53.8137192
END:VEVENT
BEGIN:VEVENT
DTSTART;TZID=Europe/London:20181009T080000
DTEND;TZID=Europe/London:20181009T170000
DTSTAMP:20260423T142624
CREATED:20180921T154843Z
LAST-MODIFIED:20180921T160259Z
UID:10001463-1539072000-1539104400@findingada.com
SUMMARY:Founders4Schools event at the Crick Institute
DESCRIPTION:Founders4Schools will be hosting an event at The Francis Crick Institute to celebrate Ada Lovelace Day and our annual Awards for those in our communities who are doing the most to help students with their transition to work.
URL:https://findingada.com/event/founders4schools-event-at-the-crick-institute/
LOCATION:Crick Institute\, 1 Midland Road\, London\, NW1 1ST\, United Kingdom
CATEGORIES:Events 2018
ATTACH;FMTTYPE=image/png:https://findingada.com/wp-content/uploads/2018/09/Logo_small_grey.png
GEO:51.5316498;-0.1287455
X-APPLE-STRUCTURED-LOCATION;VALUE=URI;X-ADDRESS=Crick Institute 1 Midland Road London NW1 1ST United Kingdom;X-APPLE-RADIUS=500;X-TITLE=1 Midland Road:geo:-0.1287455,51.5316498
END:VEVENT
BEGIN:VEVENT
DTSTART;TZID=Europe/London:20181009T080000
DTEND;TZID=Europe/London:20181009T170000
DTSTAMP:20260423T142624
CREATED:20180920T161940Z
LAST-MODIFIED:20180921T174806Z
UID:10001444-1539072000-1539104400@findingada.com
SUMMARY:F4S Ada Lovelace School Talk - Simpson
DESCRIPTION:Simpson Primary School have arranged this Ada Lovelace Day themed careers talk\, inviting local business leaders into the classroom to celebrate the achievements of women in STEM and inspire the next generation.
URL:https://findingada.com/event/f4s-ada-lovelace-school-talk-simpson/
LOCATION:Simpson Primary School\, West Lothian\, Bathgate\, EH48 2TH
CATEGORIES:Events 2018
ATTACH;FMTTYPE=image/jpeg:https://findingada.com/wp-content/uploads/2018/09/ALD-image-6.jpg
GEO:55.8872426;-3.6351514
X-APPLE-STRUCTURED-LOCATION;VALUE=URI;X-ADDRESS=Simpson Primary School West Lothian Bathgate EH48 2TH;X-APPLE-RADIUS=500;X-TITLE=West Lothian:geo:-3.6351514,55.8872426
END:VEVENT
BEGIN:VEVENT
DTSTART;TZID=Europe/London:20181009T080000
DTEND;TZID=Europe/London:20181009T170000
DTSTAMP:20260423T142624
CREATED:20180920T161845Z
LAST-MODIFIED:20180921T174951Z
UID:10001445-1539072000-1539104400@findingada.com
SUMMARY:F4S Ada Lovelace School Talk - Bathgate
DESCRIPTION:Bathgate Academy have arranged this Ada Lovelace Day themed careers talk\, inviting local business leaders into the classroom to celebrate the achievements of women in STEM and inspire the next generation.
URL:https://findingada.com/event/f4s-ada-lovelace-school-talk-bathgate/
LOCATION:Bathgate Academy\, Edinburgh Road\, Bathgate\, West Lothian\, EH48 1LF\, United Kingdom
CATEGORIES:Events 2018
ATTACH;FMTTYPE=image/jpeg:https://findingada.com/wp-content/uploads/2018/09/ALD-image-7.jpg
GEO:55.8958016;-3.6201038
X-APPLE-STRUCTURED-LOCATION;VALUE=URI;X-ADDRESS=Bathgate Academy Edinburgh Road Bathgate West Lothian EH48 1LF United Kingdom;X-APPLE-RADIUS=500;X-TITLE=Edinburgh Road:geo:-3.6201038,55.8958016
END:VEVENT
BEGIN:VEVENT
DTSTART;TZID=Europe/London:20181009T080000
DTEND;TZID=Europe/London:20181009T170000
DTSTAMP:20260423T142624
CREATED:20180920T161806Z
LAST-MODIFIED:20180921T175132Z
UID:10001446-1539072000-1539104400@findingada.com
SUMMARY:F4S Ada Lovelace School Talk - Torriano
DESCRIPTION:Torriano Primary School have arranged this Ada Lovelace Day themed careers talk\, inviting local business leaders into the classroom to celebrate the achievements of women in STEM and inspire the next generation.
URL:https://findingada.com/event/f4s-ada-lovelace-school-talk-torriano/
LOCATION:Torriano Primary School\, Torriano Avenue\, Camden\, London\, NW5 2SJ\, United Kingdom
CATEGORIES:Events 2018
ATTACH;FMTTYPE=image/jpeg:https://findingada.com/wp-content/uploads/2018/09/ALD-image-8.jpg
GEO:51.5496248;-0.1322094
X-APPLE-STRUCTURED-LOCATION;VALUE=URI;X-ADDRESS=Torriano Primary School Torriano Avenue Camden London NW5 2SJ United Kingdom;X-APPLE-RADIUS=500;X-TITLE=Torriano Avenue:geo:-0.1322094,51.5496248
END:VEVENT
BEGIN:VEVENT
DTSTART;TZID=Europe/London:20181009T080000
DTEND;TZID=Europe/London:20181009T170000
DTSTAMP:20260423T142624
CREATED:20180920T161645Z
LAST-MODIFIED:20180921T175258Z
UID:10001447-1539072000-1539104400@findingada.com
SUMMARY:F4S Ada Lovelace School Talk - Fenwick
DESCRIPTION:Fenwick Primary School
URL:https://findingada.com/event/f4s-ada-lovelace-school-talk-fenwick/
LOCATION:Fenwick Primary School\, Kirkton Road\, Fenwick\, Kilmarnock\, KA3 6DH\, United Kingdom
CATEGORIES:Events 2018
ATTACH;FMTTYPE=image/jpeg:https://findingada.com/wp-content/uploads/2018/09/ALD-image-9.jpg
GEO:55.6610362;-4.442315
X-APPLE-STRUCTURED-LOCATION;VALUE=URI;X-ADDRESS=Fenwick Primary School Kirkton Road Fenwick Kilmarnock KA3 6DH United Kingdom;X-APPLE-RADIUS=500;X-TITLE=Kirkton Road:geo:-4.442315,55.6610362
END:VEVENT
BEGIN:VEVENT
DTSTART;TZID=Europe/London:20181009T080000
DTEND;TZID=Europe/London:20181009T170000
DTSTAMP:20260423T142624
CREATED:20180920T161604Z
LAST-MODIFIED:20180920T161604Z
UID:10001449-1539072000-1539104400@findingada.com
SUMMARY:F4S Ada Lovelace School Talk - Glasgow
DESCRIPTION:Pirie Park Primary School have arranged this Ada Lovelace Day themed careers talk\, inviting local business leaders into the classroom to celebrate the achievements of women in STEM and inspire the next generation.
URL:https://findingada.com/event/f4s-ada-lovelace-school-talk-glasgow/
LOCATION:Pirie Park Primary School\, Langlands Road\, Glasgow\, G51 4AW\, United Kingdom
CATEGORIES:Events 2018
ATTACH;FMTTYPE=image/jpeg:https://findingada.com/wp-content/uploads/2018/09/ALD-image-10.jpg
GEO:55.8608788;-4.3296419
X-APPLE-STRUCTURED-LOCATION;VALUE=URI;X-ADDRESS=Pirie Park Primary School Langlands Road Glasgow G51 4AW United Kingdom;X-APPLE-RADIUS=500;X-TITLE=Langlands Road:geo:-4.3296419,55.8608788
END:VEVENT
BEGIN:VEVENT
DTSTART;TZID=Europe/London:20181009T080000
DTEND;TZID=Europe/London:20181009T170000
DTSTAMP:20260423T142624
CREATED:20180920T161529Z
LAST-MODIFIED:20180921T175839Z
UID:10001451-1539072000-1539104400@findingada.com
SUMMARY:F4S Ada Lovelace School Talk - Stirling
DESCRIPTION:Stirling High School have arranged this Ada Lovelace Day themed careers talk\, inviting local business leaders into the classroom to celebrate the achievements of women in STEM and inspire the next generation.
URL:https://findingada.com/event/f4s-ada-lovelace-school-talk-stirling/
LOCATION:Stirling High School\, Torbrex Farm Road\, Stirling\, FK8 2PA\, United Kingdom
CATEGORIES:Events 2018
ATTACH;FMTTYPE=image/jpeg:https://findingada.com/wp-content/uploads/2018/09/ALD-image-11.jpg
GEO:56.105832;-3.945163
X-APPLE-STRUCTURED-LOCATION;VALUE=URI;X-ADDRESS=Stirling High School Torbrex Farm Road Stirling FK8 2PA United Kingdom;X-APPLE-RADIUS=500;X-TITLE=Torbrex Farm Road:geo:-3.945163,56.105832
END:VEVENT
BEGIN:VEVENT
DTSTART;TZID=Europe/London:20181009T080000
DTEND;TZID=Europe/London:20181009T170000
DTSTAMP:20260423T142624
CREATED:20180920T153939Z
LAST-MODIFIED:20180920T154007Z
UID:10001443-1539072000-1539104400@findingada.com
SUMMARY:F4S Ada Lovelace School Talk - Notre Dame
DESCRIPTION:Notre Dame High School have arranged this Ada Lovelace Day themed careers talk\, inviting local business leaders into the classroom to celebrate the achievements of women in STEM and inspire the next generation.
URL:https://findingada.com/event/f4s-ada-lovelace-school-talk-notre-dame/
LOCATION:Notre Dame High School\, St George's Road\, London\, SE1 6EX
CATEGORIES:Events 2018
ATTACH;FMTTYPE=image/jpeg:https://findingada.com/wp-content/uploads/2018/09/ALD-image-5.jpg
GEO:51.4969022;-0.1066047
X-APPLE-STRUCTURED-LOCATION;VALUE=URI;X-ADDRESS=Notre Dame High School St George's Road London SE1 6EX;X-APPLE-RADIUS=500;X-TITLE=St George's Road:geo:-0.1066047,51.4969022
END:VEVENT
BEGIN:VEVENT
DTSTART;TZID=Europe/London:20181009T080000
DTEND;TZID=Europe/London:20181009T170000
DTSTAMP:20260423T142624
CREATED:20180920T153901Z
LAST-MODIFIED:20180921T180120Z
UID:10001442-1539072000-1539104400@findingada.com
SUMMARY:F4S Ada Lovelace School Talk - West Calder
DESCRIPTION:West Calder High School have arranged this Ada Lovelace Day themed careers talk\, inviting local business leaders into the classroom to celebrate the achievements of women in STEM and inspire the next generation.
URL:https://findingada.com/event/f4s-ada-lovelace-school-talk-west-calder/
LOCATION:West Calder High School\, Limefield\, Polbeth\, West Calder\, EH55 8QN\, United Kingdom
CATEGORIES:Events 2018
ATTACH;FMTTYPE=image/jpeg:https://findingada.com/wp-content/uploads/2018/09/ALD-image-3.jpg
GEO:55.8542019;-3.5658463
X-APPLE-STRUCTURED-LOCATION;VALUE=URI;X-ADDRESS=West Calder High School Limefield Polbeth West Calder EH55 8QN United Kingdom;X-APPLE-RADIUS=500;X-TITLE=Limefield:geo:-3.5658463,55.8542019
END:VEVENT
BEGIN:VEVENT
DTSTART;TZID=Europe/London:20181009T080000
DTEND;TZID=Europe/London:20181009T170000
DTSTAMP:20260423T142624
CREATED:20180920T153805Z
LAST-MODIFIED:20180921T180323Z
UID:10001441-1539072000-1539104400@findingada.com
SUMMARY:F4S Ada Lovelace School Talk - Dorking
DESCRIPTION:The Ashcombe School have arranged this Ada Lovelace Day themed careers talk\, inviting local business leaders into the classroom to celebrate the achievements of women in STEM and inspire the next generation.
URL:https://findingada.com/event/f4s-ada-lovelace-school-talk-dorking/
LOCATION:The Ashcombe School\, Ashcombe Road\, Dorking\, Surrey\, RH4 1LY\, United Kingdom
CATEGORIES:Events 2018
ATTACH;FMTTYPE=image/jpeg:https://findingada.com/wp-content/uploads/2018/09/ALD-image-4.jpg
GEO:51.2392044;-0.3310824
X-APPLE-STRUCTURED-LOCATION;VALUE=URI;X-ADDRESS=The Ashcombe School Ashcombe Road Dorking Surrey RH4 1LY United Kingdom;X-APPLE-RADIUS=500;X-TITLE=Ashcombe Road:geo:-0.3310824,51.2392044
END:VEVENT
BEGIN:VEVENT
DTSTART;TZID=Europe/London:20181009T080000
DTEND;TZID=Europe/London:20181009T170000
DTSTAMP:20260423T142624
CREATED:20180920T153723Z
LAST-MODIFIED:20180921T180509Z
UID:10001430-1539072000-1539104400@findingada.com
SUMMARY:F4S Ada Lovelace School Talk - City and Islington
DESCRIPTION:City and Islington Sixth Form College have arranged this Ada Lovelace Day themed careers talk\, inviting local business leaders into the classroom to celebrate the achievements of women in STEM and inspire the next generation.
URL:https://findingada.com/event/f4s-ada-lovelace-school-talk-city-and-islington/
LOCATION:City and Islington Sixth Form College\, Goswell Road\, Clerkenwell\, London\, EC1V 7LA\, United Kingdom
CATEGORIES:Events 2018
ATTACH;FMTTYPE=image/jpeg:https://findingada.com/wp-content/uploads/2018/09/ALD-image-2.jpg
GEO:51.5309473;-0.1042072
X-APPLE-STRUCTURED-LOCATION;VALUE=URI;X-ADDRESS=City and Islington Sixth Form College Goswell Road Clerkenwell London EC1V 7LA United Kingdom;X-APPLE-RADIUS=500;X-TITLE=Goswell Road:geo:-0.1042072,51.5309473
END:VEVENT
BEGIN:VEVENT
DTSTART;TZID=Europe/London:20180928T080000
DTEND;TZID=Europe/London:20180928T170000
DTSTAMP:20260423T142624
CREATED:20180921T160346Z
LAST-MODIFIED:20180921T160346Z
UID:10001461-1538121600-1538154000@findingada.com
SUMMARY:F4S Ada Lovelace School Talk - Perthshire
DESCRIPTION:McLaren High School have arranged this Ada Lovelace Day themed careers talk\, inviting local business leaders into the classroom to celebrate the achievements of women in STEM and inspire the next generation.
URL:https://findingada.com/event/f4s-ada-lovelace-school-talk-perthshire/
LOCATION:McLaren High School\, Mollands Road\, Callander\, FK17 8JH\, United Kingdom
CATEGORIES:Events 2018
ATTACH;FMTTYPE=image/jpeg:https://findingada.com/wp-content/uploads/2018/09/ALD-image-15.jpg
GEO:56.2376911;-4.2131754
X-APPLE-STRUCTURED-LOCATION;VALUE=URI;X-ADDRESS=McLaren High School Mollands Road Callander FK17 8JH United Kingdom;X-APPLE-RADIUS=500;X-TITLE=Mollands Road:geo:-4.2131754,56.2376911
END:VEVENT
END:VCALENDAR