BEGIN:VCALENDAR
VERSION:2.0
PRODID:-//Ada Lovelace Day - ECPv6.15.18//NONSGML v1.0//EN
CALSCALE:GREGORIAN
METHOD:PUBLISH
X-ORIGINAL-URL:https://findingada.com
X-WR-CALDESC:Events for Ada Lovelace Day
REFRESH-INTERVAL;VALUE=DURATION:PT1H
X-Robots-Tag:noindex
X-PUBLISHED-TTL:PT1H
BEGIN:VTIMEZONE
TZID:Europe/Athens
BEGIN:DAYLIGHT
TZOFFSETFROM:+0200
TZOFFSETTO:+0300
TZNAME:EEST
DTSTART:20230326T010000
END:DAYLIGHT
BEGIN:STANDARD
TZOFFSETFROM:+0300
TZOFFSETTO:+0200
TZNAME:EET
DTSTART:20231029T010000
END:STANDARD
BEGIN:DAYLIGHT
TZOFFSETFROM:+0200
TZOFFSETTO:+0300
TZNAME:EEST
DTSTART:20240331T010000
END:DAYLIGHT
BEGIN:STANDARD
TZOFFSETFROM:+0300
TZOFFSETTO:+0200
TZNAME:EET
DTSTART:20241027T010000
END:STANDARD
BEGIN:DAYLIGHT
TZOFFSETFROM:+0200
TZOFFSETTO:+0300
TZNAME:EEST
DTSTART:20250330T010000
END:DAYLIGHT
BEGIN:STANDARD
TZOFFSETFROM:+0300
TZOFFSETTO:+0200
TZNAME:EET
DTSTART:20251026T010000
END:STANDARD
END:VTIMEZONE
BEGIN:VEVENT
DTSTART;TZID=Europe/Athens:20241002T160000
DTEND;TZID=Europe/Athens:20241002T173000
DTSTAMP:20260423T142716
CREATED:20240929T153952Z
LAST-MODIFIED:20240929T153952Z
UID:10001882-1727884800-1727890200@findingada.com
SUMMARY:[ONLINE] Ada Lovelace Day: Celebrating women in STEM
DESCRIPTION:The ECE NTUA Gender Equality Office in cooperation with the IEEE WIE Greece Section AG\, are celebrating the Ada Lovelace Day and organise on Wednesday\, 2nd of October 2024\, 16.00-17.30\, an online event: \n“Ada Lovelace Day: Celebrating women in STEM” \nMain goal of the event is to highlight the progress of women engineers and their contribution\, through empowering\, improving and integrating the inclusive dimension\, into STEM. \nJoin the event: https://us04web.zoom.us/j/79645338302?pwd=Mv8wKWlTnzshupjL1XfdOmqZLLO9pw.1 \nMore information on the event is available at the event’s agenda.
URL:https://findingada.com/event/online-ada-lovelace-day-celebrating-women-in-stem-2/
LOCATION:The National Technical University of Athens\, Zografou\, Athens\, 157 73\, Greece
CATEGORIES:Events 2024
ATTACH;FMTTYPE=image/png:https://findingada.com/wp-content/uploads/2024/09/ece-athens.png
GEO:37.9802052;23.7680259
END:VEVENT
END:VCALENDAR