BEGIN:VCALENDAR
VERSION:2.0
PRODID:-//Ada Lovelace Day - ECPv6.15.18//NONSGML v1.0//EN
CALSCALE:GREGORIAN
METHOD:PUBLISH
X-ORIGINAL-URL:https://findingada.com
X-WR-CALDESC:Events for Ada Lovelace Day
REFRESH-INTERVAL;VALUE=DURATION:PT1H
X-Robots-Tag:noindex
X-PUBLISHED-TTL:PT1H
BEGIN:VTIMEZONE
TZID:Europe/Paris
BEGIN:DAYLIGHT
TZOFFSETFROM:+0100
TZOFFSETTO:+0200
TZNAME:CEST
DTSTART:20220327T010000
END:DAYLIGHT
BEGIN:STANDARD
TZOFFSETFROM:+0200
TZOFFSETTO:+0100
TZNAME:CET
DTSTART:20221030T010000
END:STANDARD
BEGIN:DAYLIGHT
TZOFFSETFROM:+0100
TZOFFSETTO:+0200
TZNAME:CEST
DTSTART:20230326T010000
END:DAYLIGHT
BEGIN:STANDARD
TZOFFSETFROM:+0200
TZOFFSETTO:+0100
TZNAME:CET
DTSTART:20231029T010000
END:STANDARD
BEGIN:DAYLIGHT
TZOFFSETFROM:+0100
TZOFFSETTO:+0200
TZNAME:CEST
DTSTART:20240331T010000
END:DAYLIGHT
BEGIN:STANDARD
TZOFFSETFROM:+0200
TZOFFSETTO:+0100
TZNAME:CET
DTSTART:20241027T010000
END:STANDARD
END:VTIMEZONE
BEGIN:VEVENT
DTSTART;TZID=Europe/Paris:20231010T160000
DTEND;TZID=Europe/Paris:20231010T200000
DTSTAMP:20260419T191158
CREATED:20230922T122319Z
LAST-MODIFIED:20230922T122319Z
UID:10001822-1696953600-1696968000@findingada.com
SUMMARY:Ada Lovelace Day 2023 in Avignon
DESCRIPTION:Film and debate on inclusion and discrimination in STEM
URL:https://findingada.com/event/ada-lovelace-day-2023-in-avignon/
LOCATION:CERI  Avignon University\, 339 chemin des Meinajaries\, Avignon\, 84000\, France
CATEGORIES:Events 2023
GEO:43.9101576;4.8884499
X-APPLE-STRUCTURED-LOCATION;VALUE=URI;X-ADDRESS=CERI  Avignon University 339 chemin des Meinajaries Avignon 84000 France;X-APPLE-RADIUS=500;X-TITLE=339 chemin des Meinajaries:geo:4.8884499,43.9101576
END:VEVENT
END:VCALENDAR